BEGIN:VCALENDAR
VERSION:2.0
PRODID:-//Tennisclub-Kefermarkt - ECPv5.2.0//NONSGML v1.0//EN
CALSCALE:GREGORIAN
METHOD:PUBLISH
X-WR-CALNAME:Tennisclub-Kefermarkt
X-ORIGINAL-URL:http://www.tennisclub-kefermarkt.at
X-WR-CALDESC:Veranstaltungen für Tennisclub-Kefermarkt
BEGIN:VTIMEZONE
TZID:Europe/Vienna
BEGIN:DAYLIGHT
TZOFFSETFROM:+0100
TZOFFSETTO:+0200
TZNAME:CEST
DTSTART:20200329T010000
END:DAYLIGHT
BEGIN:STANDARD
TZOFFSETFROM:+0200
TZOFFSETTO:+0100
TZNAME:CET
DTSTART:20201025T010000
END:STANDARD
END:VTIMEZONE
BEGIN:VEVENT
DTSTART;TZID=Europe/Vienna:20200613T110000
DTEND;TZID=Europe/Vienna:20200613T170000
DTSTAMP:20260420T143702
CREATED:20200601T200800Z
LAST-MODIFIED:20200601T200800Z
UID:3586-1592046000-1592067600@www.tennisclub-kefermarkt.at
SUMMARY:Freiwaldcup 2020 - Reichenthal : TCK1
DESCRIPTION:
URL:http://www.tennisclub-kefermarkt.at/termine/freiwaldcup-2020-reichenthal-tck1/
LOCATION:Tennisplatz Reichenthal\, Ringstraße 9\, 4193 Reichenthal\, Österreich
CATEGORIES:Auswärtsspiele
END:VEVENT
END:VCALENDAR